Package: TFARM Version: 1.30.0 Command: /Library/Frameworks/R.framework/Resources/bin/R CMD build --keep-empty-dirs --no-resave-data TFARM StartedAt: 2025-04-21 18:42:28 -0400 (Mon, 21 Apr 2025) EndedAt: 2025-04-21 18:44:36 -0400 (Mon, 21 Apr 2025) EllapsedTime: 127.3 seconds RetCode: 0 Status: OK PackageFile: TFARM_1.30.0.tar.gz PackageFileSize: 470.3 KiB