Package: TFARM Version: 1.30.0 Maintainer: Liuba Nausicaa Martino MaintainerEmail: liuban.martino at gmail.com git_url: https://git.bioconductor.org/packages/TFARM git_branch: RELEASE_3_21 git_last_commit: 2712fd7 git_last_commit_date: 2025-04-15 11:14:08 -0400 (Tue, 15 Apr 2025)