Package: TEQC Version: 4.30.0 Command: /home/biocbuild/bbs-3.21-bioc/R/bin/R CMD check --install=check:TEQC.install-out.txt --library=/home/biocbuild/bbs-3.21-bioc/R/site-library --timings TEQC_4.30.0.tar.gz StartedAt: 2025-10-16 04:19:53 -0400 (Thu, 16 Oct 2025) EndedAt: 2025-10-16 04:21:44 -0400 (Thu, 16 Oct 2025) EllapsedTime: 110.1 seconds RetCode: 0 Status: WARNINGS CheckDir: TEQC.Rcheck Warnings: 1