Package: TEQC Version: 4.30.0 Command: /Library/Frameworks/R.framework/Resources/bin/R CMD INSTALL TEQC StartedAt: 2025-10-13 15:29:19 -0400 (Mon, 13 Oct 2025) EndedAt: 2025-10-13 15:29:47 -0400 (Mon, 13 Oct 2025) EllapsedTime: 28.7 seconds RetCode: 0 Status: OK