Package: TEQC Version: 4.30.0 Command: /Library/Frameworks/R.framework/Resources/bin/R CMD build --keep-empty-dirs --no-resave-data TEQC StartedAt: 2025-10-13 23:12:15 -0400 (Mon, 13 Oct 2025) EndedAt: 2025-10-13 23:13:10 -0400 (Mon, 13 Oct 2025) EllapsedTime: 55.0 seconds RetCode: 0 Status: OK PackageFile: TEQC_4.30.0.tar.gz PackageFileSize: 642.2 KiB