Package: TEQC Version: 4.30.0 Command: rm -rf TEQC.buildbin-libdir && mkdir TEQC.buildbin-libdir && /Users/biocbuild/BBS/utils/build-universal.sh TEQC_4.30.0.tar.gz /Library/Frameworks/R.framework/Resources/bin/R TEQC.buildbin-libdir StartedAt: 2025-10-14 14:56:48 -0400 (Tue, 14 Oct 2025) EndedAt: 2025-10-14 14:57:25 -0400 (Tue, 14 Oct 2025) EllapsedTime: 36.7 seconds RetCode: 0 Status: OK PackageFile: TEQC_4.30.0.tgz PackageFileSize: 790.2 KiB