Package: TEQC Version: 4.30.0 Command: /Library/Frameworks/R.framework/Resources/bin/R CMD INSTALL TEQC StartedAt: 2025-04-21 15:10:44 -0400 (Mon, 21 Apr 2025) EndedAt: 2025-04-21 15:10:49 -0400 (Mon, 21 Apr 2025) EllapsedTime: 5.4 seconds RetCode: 0 Status: OK