Package: TEQC Version: 4.30.0 Command: rm -rf TEQC.buildbin-libdir && mkdir TEQC.buildbin-libdir && /Users/biocbuild/BBS/utils/build-universal.sh TEQC_4.30.0.tar.gz /Library/Frameworks/R.framework/Resources/bin/R TEQC.buildbin-libdir StartedAt: 2025-04-21 22:54:59 -0400 (Mon, 21 Apr 2025) EndedAt: 2025-04-21 22:55:06 -0400 (Mon, 21 Apr 2025) EllapsedTime: 7.1 seconds RetCode: 0 Status: OK PackageFile: TEQC_4.30.0.tgz PackageFileSize: 792.7 KiB