Package: TEQC Version: 4.30.0 Command: /Library/Frameworks/R.framework/Resources/bin/R CMD check --install=check:TEQC.install-out.txt --library=/Library/Frameworks/R.framework/Resources/library --no-vignettes --timings TEQC_4.30.0.tar.gz StartedAt: 2025-10-15 15:09:32 -0400 (Wed, 15 Oct 2025) EndedAt: 2025-10-15 15:11:30 -0400 (Wed, 15 Oct 2025) EllapsedTime: 117.7 seconds RetCode: 0 Status: WARNINGS CheckDir: TEQC.Rcheck Warnings: 1