Package: TENxIO Version: 1.10.2 Command: /home/biocbuild/bbs-3.21-bioc/R/bin/R CMD INSTALL TENxIO StartedAt: 2025-10-15 15:34:46 -0400 (Wed, 15 Oct 2025) EndedAt: 2025-10-15 15:35:11 -0400 (Wed, 15 Oct 2025) EllapsedTime: 25.6 seconds RetCode: 0 Status: OK