Package: TENxIO Version: 1.10.2 Command: /Library/Frameworks/R.framework/Resources/bin/R CMD build --keep-empty-dirs --no-resave-data TENxIO StartedAt: 2025-10-14 10:56:10 -0400 (Tue, 14 Oct 2025) EndedAt: 2025-10-14 10:56:59 -0400 (Tue, 14 Oct 2025) EllapsedTime: 48.7 seconds RetCode: 1 Status: ERROR PackageFile: None PackageFileSize: NA