Package: TENET Version: 1.0.1 Command: /home/biocbuild/bbs-3.21-bioc/R/bin/R CMD build --keep-empty-dirs --no-resave-data TENET StartedAt: 2025-10-15 20:16:22 -0400 (Wed, 15 Oct 2025) EndedAt: 2025-10-15 20:29:35 -0400 (Wed, 15 Oct 2025) EllapsedTime: 793.9 seconds RetCode: 0 Status: OK PackageFile: TENET_1.0.1.tar.gz PackageFileSize: 1.367 MiB