Package: TENET Version: 1.0.1 Command: /Library/Frameworks/R.framework/Resources/bin/R CMD INSTALL TENET StartedAt: 2025-10-13 16:03:28 -0400 (Mon, 13 Oct 2025) EndedAt: 2025-10-13 16:04:46 -0400 (Mon, 13 Oct 2025) EllapsedTime: 78.0 seconds RetCode: 0 Status: OK