Package: TENET Version: 1.0.1 Command: rm -rf TENET.buildbin-libdir && mkdir TENET.buildbin-libdir && /Users/biocbuild/BBS/utils/build-universal.sh TENET_1.0.1.tar.gz /Library/Frameworks/R.framework/Resources/bin/R TENET.buildbin-libdir StartedAt: 2025-10-14 14:56:47 -0400 (Tue, 14 Oct 2025) EndedAt: 2025-10-14 14:58:20 -0400 (Tue, 14 Oct 2025) EllapsedTime: 93.4 seconds RetCode: 0 Status: OK PackageFile: TENET_1.0.1.tgz PackageFileSize: 1.956 MiB