Package: TENET Version: 1.0.0 Command: rm -rf TENET.buildbin-libdir && mkdir TENET.buildbin-libdir && /Users/biocbuild/BBS/utils/build-universal.sh TENET_1.0.0.tar.gz /Library/Frameworks/R.framework/Resources/bin/R TENET.buildbin-libdir StartedAt: 2025-04-21 22:54:56 -0400 (Mon, 21 Apr 2025) EndedAt: 2025-04-21 22:55:13 -0400 (Mon, 21 Apr 2025) EllapsedTime: 16.3 seconds RetCode: 0 Status: OK PackageFile: TENET_1.0.0.tgz PackageFileSize: 1.962 MiB