Package: TEKRABber Version: 1.12.0 Command: /home/biocbuild/R/R/bin/R CMD INSTALL TEKRABber StartedAt: 2025-10-13 20:41:19 -0000 (Mon, 13 Oct 2025) EndedAt: 2025-10-13 20:42:17 -0000 (Mon, 13 Oct 2025) EllapsedTime: 58.0 seconds RetCode: 0 Status: OK