Package: TDbasedUFE Version: 1.8.0 Command: /Library/Frameworks/R.framework/Resources/bin/R CMD INSTALL TDbasedUFE StartedAt: 2025-10-13 15:29:08 -0400 (Mon, 13 Oct 2025) EndedAt: 2025-10-13 15:29:33 -0400 (Mon, 13 Oct 2025) EllapsedTime: 24.5 seconds RetCode: 0 Status: OK