Package: TDbasedUFE Version: 1.8.0 Command: /Library/Frameworks/R.framework/Resources/bin/R CMD build --keep-empty-dirs --no-resave-data TDbasedUFE StartedAt: 2025-10-13 23:11:20 -0400 (Mon, 13 Oct 2025) EndedAt: 2025-10-13 23:12:19 -0400 (Mon, 13 Oct 2025) EllapsedTime: 59.0 seconds RetCode: 0 Status: OK PackageFile: TDbasedUFE_1.8.0.tar.gz PackageFileSize: 1.347 MiB