Package: TBSignatureProfiler Version: 1.20.0 Command: /Library/Frameworks/R.framework/Resources/bin/R CMD check --install=check:TBSignatureProfiler.install-out.txt --library=/Library/Frameworks/R.framework/Resources/library --no-vignettes --timings TBSignatureProfiler_1.20.0.tar.gz StartedAt: 2025-10-14 11:29:30 -0400 (Tue, 14 Oct 2025) EndedAt: 2025-10-14 11:34:58 -0400 (Tue, 14 Oct 2025) EllapsedTime: 328.5 seconds RetCode: 0 Status: OK CheckDir: TBSignatureProfiler.Rcheck Warnings: 0