Package: TAPseq Version: 1.20.0 Command: E:\biocbuild\bbs-3.21-bioc\R\bin\R.exe CMD check --no-multiarch --install=check:TAPseq.install-out.txt --library=E:\biocbuild\bbs-3.21-bioc\R\library --no-vignettes --timings TAPseq_1.20.0.tar.gz StartedAt: 2025-08-15 07:42:54 -0400 (Fri, 15 Aug 2025) EndedAt: 2025-08-15 07:55:47 -0400 (Fri, 15 Aug 2025) EllapsedTime: 772.4 seconds RetCode: 0 Status: WARNINGS CheckDir: TAPseq.Rcheck Warnings: 1