Package: TAPseq Version: 1.20.0 Command: rm -rf TAPseq.buildbin-libdir && mkdir TAPseq.buildbin-libdir && E:\biocbuild\bbs-3.21-bioc\R\bin\R.exe CMD INSTALL --build --library=TAPseq.buildbin-libdir TAPseq_1.20.0.tar.gz StartedAt: 2025-08-15 10:26:57 -0400 (Fri, 15 Aug 2025) EndedAt: 2025-08-15 10:28:38 -0400 (Fri, 15 Aug 2025) EllapsedTime: 101.0 seconds RetCode: 0 Status: OK PackageFile: TAPseq_1.20.0.zip PackageFileSize: 2.882 MiB