Package: TADCompare Version: 1.18.0 Command: /Library/Frameworks/R.framework/Resources/bin/R CMD build --keep-empty-dirs --no-resave-data TADCompare StartedAt: 2025-10-13 23:09:27 -0400 (Mon, 13 Oct 2025) EndedAt: 2025-10-13 23:11:55 -0400 (Mon, 13 Oct 2025) EllapsedTime: 147.3 seconds RetCode: 0 Status: OK PackageFile: TADCompare_1.18.0.tar.gz PackageFileSize: 4.202 MiB