Package: TADCompare Version: 1.18.0 Command: rm -rf TADCompare.buildbin-libdir && mkdir TADCompare.buildbin-libdir && /Users/biocbuild/BBS/utils/build-universal.sh TADCompare_1.18.0.tar.gz /Library/Frameworks/R.framework/Resources/bin/R TADCompare.buildbin-libdir StartedAt: 2025-10-14 14:56:10 -0400 (Tue, 14 Oct 2025) EndedAt: 2025-10-14 14:57:28 -0400 (Tue, 14 Oct 2025) EllapsedTime: 78.1 seconds RetCode: 0 Status: OK PackageFile: TADCompare_1.18.0.tgz PackageFileSize: 5.013 MiB