Package: SynMut Version: 1.24.0 Command: /Library/Frameworks/R.framework/Resources/bin/R CMD INSTALL SynMut StartedAt: 2025-10-13 15:30:11 -0400 (Mon, 13 Oct 2025) EndedAt: 2025-10-13 15:30:40 -0400 (Mon, 13 Oct 2025) EllapsedTime: 28.4 seconds RetCode: 0 Status: OK