Package: SynMut Version: 1.24.0 Command: rm -rf SynMut.buildbin-libdir && mkdir SynMut.buildbin-libdir && /Users/biocbuild/BBS/utils/build-universal.sh SynMut_1.24.0.tar.gz /Library/Frameworks/R.framework/Resources/bin/R SynMut.buildbin-libdir StartedAt: 2025-10-14 14:55:59 -0400 (Tue, 14 Oct 2025) EndedAt: 2025-10-14 14:56:30 -0400 (Tue, 14 Oct 2025) EllapsedTime: 31.2 seconds RetCode: 0 Status: OK PackageFile: SynMut_1.24.0.tgz PackageFileSize: 318.2 KiB