Package: SynMut Version: 1.24.0 Command: /home/biocbuild/R/R/bin/R CMD check --install=check:SynMut.install-out.txt --library=/home/biocbuild/R/R/site-library --no-vignettes --timings SynMut_1.24.0.tar.gz StartedAt: 2025-10-14 15:09:37 -0000 (Tue, 14 Oct 2025) EndedAt: 2025-10-14 15:11:57 -0000 (Tue, 14 Oct 2025) EllapsedTime: 139.4 seconds RetCode: 0 Status: OK CheckDir: SynMut.Rcheck Warnings: 0