Package: SynMut Version: 1.24.0 Command: /home/biocbuild/R/R/bin/R CMD build --keep-empty-dirs --no-resave-data SynMut StartedAt: 2025-10-14 05:16:21 -0000 (Tue, 14 Oct 2025) EndedAt: 2025-10-14 05:16:47 -0000 (Tue, 14 Oct 2025) EllapsedTime: 26.0 seconds RetCode: 0 Status: OK PackageFile: SynMut_1.24.0.tar.gz PackageFileSize: 107.2 KiB