Package: SwathXtend Version: 2.30.0 Command: /home/biocbuild/bbs-3.21-bioc/R/bin/R CMD build --keep-empty-dirs --no-resave-data SwathXtend StartedAt: 2025-10-15 20:13:06 -0400 (Wed, 15 Oct 2025) EndedAt: 2025-10-15 20:16:09 -0400 (Wed, 15 Oct 2025) EllapsedTime: 183.2 seconds RetCode: 0 Status: OK PackageFile: SwathXtend_2.30.0.tar.gz PackageFileSize: 346.5 MiB