Package: SwathXtend Version: 2.30.0 Command: /Library/Frameworks/R.framework/Resources/bin/R CMD build --keep-empty-dirs --no-resave-data SwathXtend StartedAt: 2025-10-13 23:07:45 -0400 (Mon, 13 Oct 2025) EndedAt: 2025-10-13 23:15:35 -0400 (Mon, 13 Oct 2025) EllapsedTime: 470.7 seconds RetCode: 0 Status: OK PackageFile: SwathXtend_2.30.0.tar.gz PackageFileSize: 346.3 MiB