Package: SurfR Version: 1.4.1 Command: chmod a+r SurfR -R && E:\biocbuild\bbs-3.21-bioc\R\bin\R.exe CMD build --keep-empty-dirs --no-resave-data SurfR StartedAt: 2025-08-14 22:35:52 -0400 (Thu, 14 Aug 2025) EndedAt: 2025-08-14 22:36:54 -0400 (Thu, 14 Aug 2025) EllapsedTime: 61.9 seconds RetCode: 0 Status: OK PackageFile: SurfR_1.4.1.tar.gz PackageFileSize: 372.9 KiB