Package: SurfR Version: 1.4.2 Command: /Library/Frameworks/R.framework/Resources/bin/R CMD check --install=check:SurfR.install-out.txt --library=/Library/Frameworks/R.framework/Resources/library --no-vignettes --timings SurfR_1.4.2.tar.gz StartedAt: 2025-10-15 14:41:07 -0400 (Wed, 15 Oct 2025) EndedAt: 2025-10-15 14:46:47 -0400 (Wed, 15 Oct 2025) EllapsedTime: 340.0 seconds RetCode: 0 Status: OK CheckDir: SurfR.Rcheck Warnings: 0