Package: Summix Version: 2.14.0 Command: rm -rf Summix.buildbin-libdir && mkdir Summix.buildbin-libdir && E:\biocbuild\bbs-3.21-bioc\R\bin\R.exe CMD INSTALL --build --library=Summix.buildbin-libdir Summix_2.14.0.tar.gz StartedAt: 2025-08-15 10:25:45 -0400 (Fri, 15 Aug 2025) EndedAt: 2025-08-15 10:26:03 -0400 (Fri, 15 Aug 2025) EllapsedTime: 17.4 seconds RetCode: 0 Status: OK PackageFile: Summix_2.14.0.zip PackageFileSize: 356.6 KiB