Package: Summix Version: 2.14.0 Command: /Library/Frameworks/R.framework/Resources/bin/R CMD INSTALL Summix StartedAt: 2025-10-13 15:22:58 -0400 (Mon, 13 Oct 2025) EndedAt: 2025-10-13 15:23:09 -0400 (Mon, 13 Oct 2025) EllapsedTime: 11.1 seconds RetCode: 0 Status: OK