Package: Summix Version: 2.14.0 Command: /Library/Frameworks/R.framework/Resources/bin/R CMD check --install=check:Summix.install-out.txt --library=/Library/Frameworks/R.framework/Resources/library --no-vignettes --timings Summix_2.14.0.tar.gz StartedAt: 2025-10-15 14:40:25 -0400 (Wed, 15 Oct 2025) EndedAt: 2025-10-15 14:41:47 -0400 (Wed, 15 Oct 2025) EllapsedTime: 82.2 seconds RetCode: 0 Status: OK CheckDir: Summix.Rcheck Warnings: 0