Package: Summix Version: 2.14.0 Command: rm -rf Summix.buildbin-libdir && mkdir Summix.buildbin-libdir && /Users/biocbuild/BBS/utils/build-universal.sh Summix_2.14.0.tar.gz /Library/Frameworks/R.framework/Resources/bin/R Summix.buildbin-libdir StartedAt: 2025-10-15 20:45:09 -0400 (Wed, 15 Oct 2025) EndedAt: 2025-10-15 20:45:22 -0400 (Wed, 15 Oct 2025) EllapsedTime: 13.5 seconds RetCode: 0 Status: OK PackageFile: Summix_2.14.0.tgz PackageFileSize: 354.1 KiB