Package: Structstrings Version: 1.24.0 Command: /Library/Frameworks/R.framework/Resources/bin/R CMD check --install=check:Structstrings.install-out.txt --library=/Library/Frameworks/R.framework/Resources/library --no-vignettes --timings Structstrings_1.24.0.tar.gz StartedAt: 2025-10-14 11:15:22 -0400 (Tue, 14 Oct 2025) EndedAt: 2025-10-14 11:22:14 -0400 (Tue, 14 Oct 2025) EllapsedTime: 412.7 seconds RetCode: 0 Status: OK CheckDir: Structstrings.Rcheck Warnings: 0