Package: Structstrings Version: 1.24.0 Command: /Library/Frameworks/R.framework/Resources/bin/R CMD build --keep-empty-dirs --no-resave-data Structstrings StartedAt: 2025-10-13 23:04:15 -0400 (Mon, 13 Oct 2025) EndedAt: 2025-10-13 23:05:19 -0400 (Mon, 13 Oct 2025) EllapsedTime: 63.8 seconds RetCode: 0 Status: OK PackageFile: Structstrings_1.24.0.tar.gz PackageFileSize: 366.7 KiB