Package: Structstrings Version: 1.24.0 Command: rm -rf Structstrings.buildbin-libdir && mkdir Structstrings.buildbin-libdir && /Users/biocbuild/BBS/utils/build-universal.sh Structstrings_1.24.0.tar.gz /Library/Frameworks/R.framework/Resources/bin/R Structstrings.buildbin-libdir StartedAt: 2025-10-14 14:54:35 -0400 (Tue, 14 Oct 2025) EndedAt: 2025-10-14 14:55:21 -0400 (Tue, 14 Oct 2025) EllapsedTime: 45.9 seconds RetCode: 0 Status: OK PackageFile: Structstrings_1.24.0.tgz PackageFileSize: 803.2 KiB