Package: Streamer Version: 1.54.0 Command: /home/biocbuild/bbs-3.21-bioc/R/bin/R CMD check --install=check:Streamer.install-out.txt --library=/home/biocbuild/bbs-3.21-bioc/R/site-library --timings Streamer_1.54.0.tar.gz StartedAt: 2025-10-16 04:09:08 -0400 (Thu, 16 Oct 2025) EndedAt: 2025-10-16 04:09:55 -0400 (Thu, 16 Oct 2025) EllapsedTime: 46.1 seconds RetCode: 0 Status: OK CheckDir: Streamer.Rcheck Warnings: 0