Package: Statial Version: 1.10.3 Command: /home/biocbuild/bbs-3.21-bioc/R/bin/R CMD INSTALL Statial StartedAt: 2025-09-28 15:38:09 -0400 (Sun, 28 Sep 2025) EndedAt: 2025-09-28 15:38:36 -0400 (Sun, 28 Sep 2025) EllapsedTime: 27.3 seconds RetCode: 0 Status: OK