Package: Statial Version: 1.10.3 Command: /home/biocbuild/bbs-3.21-bioc/R/bin/R CMD check --install=check:Statial.install-out.txt --library=/home/biocbuild/bbs-3.21-bioc/R/site-library --timings Statial_1.10.3.tar.gz StartedAt: 2025-09-29 04:09:51 -0400 (Mon, 29 Sep 2025) EndedAt: 2025-09-29 04:30:28 -0400 (Mon, 29 Sep 2025) EllapsedTime: 1236.7 seconds RetCode: 0 Status: OK CheckDir: Statial.Rcheck Warnings: 0