Package: Statial Version: 1.10.3 Command: /Library/Frameworks/R.framework/Resources/bin/R CMD INSTALL Statial StartedAt: 2025-10-13 15:44:06 -0400 (Mon, 13 Oct 2025) EndedAt: 2025-10-13 15:45:07 -0400 (Mon, 13 Oct 2025) EllapsedTime: 61.3 seconds RetCode: 0 Status: OK