Package: Statial Version: 1.10.3 Command: /Library/Frameworks/R.framework/Resources/bin/R CMD check --install=check:Statial.install-out.txt --library=/Library/Frameworks/R.framework/Resources/library --no-vignettes --timings Statial_1.10.3.tar.gz StartedAt: 2025-10-14 11:13:27 -0400 (Tue, 14 Oct 2025) EndedAt: 2025-10-14 11:34:53 -0400 (Tue, 14 Oct 2025) EllapsedTime: 1286.0 seconds RetCode: 0 Status: OK CheckDir: Statial.Rcheck Warnings: 0