Package: Statial Version: 1.10.3 Command: /Library/Frameworks/R.framework/Resources/bin/R CMD build --keep-empty-dirs --no-resave-data Statial StartedAt: 2025-10-13 23:03:35 -0400 (Mon, 13 Oct 2025) EndedAt: 2025-10-13 23:24:58 -0400 (Mon, 13 Oct 2025) EllapsedTime: 1282.9 seconds RetCode: 0 Status: OK PackageFile: Statial_1.10.3.tar.gz PackageFileSize: 9.641 MiB