Package: Statial Version: 1.10.3 Command: /Library/Frameworks/R.framework/Resources/bin/R CMD INSTALL Statial StartedAt: 2025-10-13 16:28:35 -0400 (Mon, 13 Oct 2025) EndedAt: 2025-10-13 16:29:08 -0400 (Mon, 13 Oct 2025) EllapsedTime: 32.7 seconds RetCode: 0 Status: OK