Package: Statial Version: 1.10.3 Command: /Library/Frameworks/R.framework/Resources/bin/R CMD check --install=check:Statial.install-out.txt --library=/Library/Frameworks/R.framework/Resources/library --no-vignettes --timings Statial_1.10.3.tar.gz StartedAt: 2025-10-15 14:28:04 -0400 (Wed, 15 Oct 2025) EndedAt: 2025-10-15 14:40:39 -0400 (Wed, 15 Oct 2025) EllapsedTime: 755.5 seconds RetCode: 0 Status: OK CheckDir: Statial.Rcheck Warnings: 0