Package: Statial Version: 1.10.3 Command: /Library/Frameworks/R.framework/Resources/bin/R CMD build --keep-empty-dirs --no-resave-data Statial StartedAt: 2025-10-14 10:30:34 -0400 (Tue, 14 Oct 2025) EndedAt: 2025-10-14 10:43:16 -0400 (Tue, 14 Oct 2025) EllapsedTime: 761.3 seconds RetCode: 0 Status: OK PackageFile: Statial_1.10.3.tar.gz PackageFileSize: 9.635 MiB