Package: Statial Version: 1.10.3 Command: rm -rf Statial.buildbin-libdir && mkdir Statial.buildbin-libdir && /Users/biocbuild/BBS/utils/build-universal.sh Statial_1.10.3.tar.gz /Library/Frameworks/R.framework/Resources/bin/R Statial.buildbin-libdir StartedAt: 2025-10-15 20:43:59 -0400 (Wed, 15 Oct 2025) EndedAt: 2025-10-15 20:44:36 -0400 (Wed, 15 Oct 2025) EllapsedTime: 36.7 seconds RetCode: 0 Status: OK PackageFile: Statial_1.10.3.tgz PackageFileSize: 9.718 MiB