Package: SpotSweeper Version: 1.4.0 Command: rm -rf SpotSweeper.buildbin-libdir && mkdir SpotSweeper.buildbin-libdir && E:\biocbuild\bbs-3.21-bioc\R\bin\R.exe CMD INSTALL --build --library=SpotSweeper.buildbin-libdir SpotSweeper_1.4.0.tar.gz StartedAt: 2025-08-15 10:24:17 -0400 (Fri, 15 Aug 2025) EndedAt: 2025-08-15 10:25:06 -0400 (Fri, 15 Aug 2025) EllapsedTime: 49.5 seconds RetCode: 0 Status: OK PackageFile: SpotSweeper_1.4.0.zip PackageFileSize: 3.156 MiB