Package: SpotSweeper Version: 1.4.0 Command: /home/biocbuild/bbs-3.21-bioc/R/bin/R CMD check --install=check:SpotSweeper.install-out.txt --library=/home/biocbuild/bbs-3.21-bioc/R/site-library --timings SpotSweeper_1.4.0.tar.gz StartedAt: 2025-10-16 04:03:07 -0400 (Thu, 16 Oct 2025) EndedAt: 2025-10-16 04:12:46 -0400 (Thu, 16 Oct 2025) EllapsedTime: 578.7 seconds RetCode: 0 Status: OK CheckDir: SpotSweeper.Rcheck Warnings: 0